BEGIN:VCALENDAR
VERSION:2.0
PRODID:-//Town of Clarkson - ECPv6.15.17.1//NONSGML v1.0//EN
CALSCALE:GREGORIAN
METHOD:PUBLISH
X-WR-CALNAME:Town of Clarkson
X-ORIGINAL-URL:https://townofclarksonny.gov
X-WR-CALDESC:Events for Town of Clarkson
REFRESH-INTERVAL;VALUE=DURATION:PT1H
X-Robots-Tag:noindex
X-PUBLISHED-TTL:PT1H
BEGIN:VTIMEZONE
TZID:America/New_York
BEGIN:DAYLIGHT
TZOFFSETFROM:-0500
TZOFFSETTO:-0400
TZNAME:EDT
DTSTART:20250309T070000
END:DAYLIGHT
BEGIN:STANDARD
TZOFFSETFROM:-0400
TZOFFSETTO:-0500
TZNAME:EST
DTSTART:20251102T060000
END:STANDARD
BEGIN:DAYLIGHT
TZOFFSETFROM:-0500
TZOFFSETTO:-0400
TZNAME:EDT
DTSTART:20260308T070000
END:DAYLIGHT
BEGIN:STANDARD
TZOFFSETFROM:-0400
TZOFFSETTO:-0500
TZNAME:EST
DTSTART:20261101T060000
END:STANDARD
BEGIN:DAYLIGHT
TZOFFSETFROM:-0500
TZOFFSETTO:-0400
TZNAME:EDT
DTSTART:20270314T070000
END:DAYLIGHT
BEGIN:STANDARD
TZOFFSETFROM:-0400
TZOFFSETTO:-0500
TZNAME:EST
DTSTART:20271107T060000
END:STANDARD
END:VTIMEZONE
BEGIN:VEVENT
DTSTART;VALUE=DATE:20260606
DTEND;VALUE=DATE:20260607
DTSTAMP:20260419T092626
CREATED:20260323T030451Z
LAST-MODIFIED:20260323T030451Z
UID:9121-1780704000-1780790399@townofclarksonny.gov
SUMMARY:Shred Day 10am - Noon @ Hafner Park
DESCRIPTION:
URL:https://townofclarksonny.gov/event/shred-day-10am-noon-hafner-park/
END:VEVENT
BEGIN:VEVENT
DTSTART;VALUE=DATE:20260525
DTEND;VALUE=DATE:20260526
DTSTAMP:20260419T092626
CREATED:20260323T024550Z
LAST-MODIFIED:20260323T024550Z
UID:9103-1779667200-1779753599@townofclarksonny.gov
SUMMARY:Town offices closed - Memorial Day
DESCRIPTION:
URL:https://townofclarksonny.gov/event/town-offices-closed-memorial-day/
END:VEVENT
BEGIN:VEVENT
DTSTART;VALUE=DATE:20260507
DTEND;VALUE=DATE:20260508
DTSTAMP:20260419T092626
CREATED:20260323T030403Z
LAST-MODIFIED:20260323T030403Z
UID:9120-1778112000-1778198399@townofclarksonny.gov
SUMMARY:Rabies Clinic 5:30pm - 7:30pm @ Highway Dept
DESCRIPTION:
URL:https://townofclarksonny.gov/event/rabies-clinic-530pm-730pm-highway-dept/
END:VEVENT
BEGIN:VEVENT
DTSTART;VALUE=DATE:20260504
DTEND;VALUE=DATE:20260505
DTSTAMP:20260419T092626
CREATED:20260323T030310Z
LAST-MODIFIED:20260323T030310Z
UID:9119-1777852800-1777939199@townofclarksonny.gov
SUMMARY:Bagged Leaves Pick-up
DESCRIPTION:
URL:https://townofclarksonny.gov/event/bagged-leaves-pick-up-3/
END:VEVENT
BEGIN:VEVENT
DTSTART;VALUE=DATE:20260502
DTEND;VALUE=DATE:20260503
DTSTAMP:20260419T092626
CREATED:20260323T030008Z
LAST-MODIFIED:20260323T030008Z
UID:9115-1777680000-1777766399@townofclarksonny.gov
SUMMARY:Junk Days 8am - 4pm  @ Highway Department
DESCRIPTION:
URL:https://townofclarksonny.gov/event/junk-days-8am-4pm-highway-department-2/
END:VEVENT
BEGIN:VEVENT
DTSTART;VALUE=DATE:20260427
DTEND;VALUE=DATE:20260502
DTSTAMP:20260419T092626
CREATED:20260323T025843Z
LAST-MODIFIED:20260323T025843Z
UID:9113-1777248000-1777679999@townofclarksonny.gov
SUMMARY:Junk Days 1pm - 5pm  @ Highway Department
DESCRIPTION:
URL:https://townofclarksonny.gov/event/junk-days-1pm-5pm-highway-department/
END:VEVENT
BEGIN:VEVENT
DTSTART;VALUE=DATE:20260427
DTEND;VALUE=DATE:20260428
DTSTAMP:20260419T092626
CREATED:20260323T030251Z
LAST-MODIFIED:20260323T030251Z
UID:9118-1777248000-1777334399@townofclarksonny.gov
SUMMARY:Bagged Leaves Pick-up
DESCRIPTION:
URL:https://townofclarksonny.gov/event/bagged-leaves-pick-up-2/
END:VEVENT
BEGIN:VEVENT
DTSTART;VALUE=DATE:20260425
DTEND;VALUE=DATE:20260426
DTSTAMP:20260419T092626
CREATED:20260323T025916Z
LAST-MODIFIED:20260323T025916Z
UID:9114-1777075200-1777161599@townofclarksonny.gov
SUMMARY:Junk Days 8am - 4pm  @ Highway Department
DESCRIPTION:
URL:https://townofclarksonny.gov/event/junk-days-8am-4pm-highway-department/
END:VEVENT
BEGIN:VEVENT
DTSTART;VALUE=DATE:20260421
DTEND;VALUE=DATE:20260422
DTSTAMP:20260419T092626
CREATED:20260323T030228Z
LAST-MODIFIED:20260323T030228Z
UID:9117-1776729600-1776815999@townofclarksonny.gov
SUMMARY:Bagged Leaves Pick-up
DESCRIPTION:
URL:https://townofclarksonny.gov/event/bagged-leaves-pick-up/
END:VEVENT
BEGIN:VEVENT
DTSTART;VALUE=DATE:20260101
DTEND;VALUE=DATE:20260102
DTSTAMP:20260419T092626
CREATED:20260323T024243Z
LAST-MODIFIED:20260323T024243Z
UID:9102-1767225600-1767311999@townofclarksonny.gov
SUMMARY:Town offices closed - New Year's Day
DESCRIPTION:
URL:https://townofclarksonny.gov/event/town-offices-closed-new-years-day/
END:VEVENT
END:VCALENDAR